BEGIN:VCALENDAR
VERSION:2.0
PRODID:-//Tender Wishes Foundation - ECPv5.16.3.1//NONSGML v1.0//EN
CALSCALE:GREGORIAN
METHOD:PUBLISH
X-WR-CALNAME:Tender Wishes Foundation
X-ORIGINAL-URL:http://tenderwishes.ontario.net
X-WR-CALDESC:Events for Tender Wishes Foundation
REFRESH-INTERVAL;VALUE=DURATION:PT1H
X-Robots-Tag:noindex
X-PUBLISHED-TTL:PT1H
BEGIN:VTIMEZONE
TZID:UTC
BEGIN:STANDARD
TZOFFSETFROM:+0000
TZOFFSETTO:+0000
TZNAME:UTC
DTSTART:20220101T000000
END:STANDARD
END:VTIMEZONE
BEGIN:VEVENT
DTSTART;TZID=UTC:20220823T183000
DTEND;TZID=UTC:20220823T183000
DTSTAMP:20260420T041619
CREATED:20220726T175623Z
LAST-MODIFIED:20220727T132835Z
UID:597-1661279400-1661279400@tenderwishes.ontario.net
SUMMARY:Executive Meeting
DESCRIPTION:
URL:http://tenderwishes.ontario.net/event/executive-meeting/
LOCATION:6934 Kinsmen Court\, 6934 Kinsmen Court\, Niagara Falls\, Ontario\, Canada
END:VEVENT
BEGIN:VEVENT
DTSTART;TZID=UTC:20220809T183000
DTEND;TZID=UTC:20220809T183000
DTSTAMP:20260420T041619
CREATED:20220726T175140Z
LAST-MODIFIED:20220727T132803Z
UID:593-1660069800-1660069800@tenderwishes.ontario.net
SUMMARY:Tender Wishes Meeting
DESCRIPTION:
URL:http://tenderwishes.ontario.net/event/tender-wishes-meeting/
LOCATION:Niagara Falls Optimist Hall\, 7085 Morrison Street\, Niagara Falls\, Ontario\, Canada
END:VEVENT
END:VCALENDAR